BEGIN:VCALENDAR
VERSION:2.0
PRODID:-//hacksw/handcal//NONSGML v1.0//EN
BEGIN:VEVENT
DTSTAMP:20190203T010000Z
DTSTART:20190203T010000Z
DTEND:20190203T040000Z
SUMMARY:McNichols Open House for Exhibits
DESCRIPTION:Join us for a fun night of music, snacks, drinks and photography! Enjoy Elemental Construction, then walk upstairs to see a photography exhibit highlighting the 10-year history of Denver Fashion Week. To celebrate, CPAC is bringing in the paparazzi courtesy of From the Hip Photo and a photo booth by Anthony Camera. Fashionable attire recommended. FREE!
END:VEVENT
END:VCALENDAR