BEGIN:VCALENDAR
VERSION:2.0
PRODID:-//hacksw/handcal//NONSGML v1.0//EN
BEGIN:VEVENT
DTSTAMP:20221015T180000Z
DTSTART:20221015T180000Z
DTEND:20221015T200000Z
SUMMARY:Ȟópa Market noon-5pm
DESCRIPTION:Join us to support local artists at the Ȟópa Market, where 30 Native American artisans and vendors will be selling their artworks and merchandise on October 15 from noon until 5 p.m. The Ȟópa Market will reopen again at 7 p.m. for ticketholders to the Arts & Venues Cultural Runway event. Items for sale include fine art and prints, jewelry, Native American food, wearable art and clothing, stationery, textiles, body care and soaps, and so much more!Vendors include:Atzi Beads by Johnny Marie - beadwork earrings, necklaces and bracelets, dentalium shell earrings, Native print coats for dogs, ribbon skirtsAya Con - comics, art printsBuffaloBarbie (Dine, Navajo) - handmade jewelryCedar Rose Creations LLC (Crow) - balms, hair oil, soaps, sugar scrubs, beadworkChoke Cherry Creek (Crow) - clothingCorn Maiden Designs (Taos Pueblo) -Native American fashionDallin Maybee (Northern Arapaho / Seneca) - earrings, skirts, illustrations, beadworkDzabahe Jewelry (Dine, Navajo) - jewelry crafted with semi-precious stones, coral, wood, seeds and sea shellsFour Directions Cuisine - Indigenous pre-packaged foods: InkaTrail Mix, gluten free cornmeal sugar cookies and blue cornmeal sugar cookiesGarden of the Angels Colorado - CBD health and wellness bath and body productsHarry Teller (Navajo) - handmade sterling silver earrings, necklaces, bracelets and pendants, beaded earringsHeruse tos Handmade Handbags by Lea (Muscogee Nation) - handmade handbagsIndigenous Cosmetics and Indigenous Professional Hair Care - makeup, t-shirts and professional hair careKarmayne Designs (Dine, Navajo) - shirts, stickersLil Coyote Art (Shoshone / Spokane) - prints, stickers, hats, shirtsLove Adorned by Lori Tazbah - handmade contemporary Native jewelry made from recycled, repurposed materials with natural stones and shells, custom decals and prints by Native pop artist Steven Paul Judd (Choctaw / Kiowa), Native children&#39;s books Native Gorilla (Standing Rock) - streetwear, accessoriesNick Ohitika Najin (Cheyenne River Sioux) - art, soaps, bath products, oilsNizhoni Lee (Navajo) - handmade leather earrings and accessoriesPlain Bird Arts - Native American beadworkRed Berry Woman (three affiliations) - clothingRichard Henson (Comanche) - beadworkRoberta Begaye (Dine, Navajo) - original paintings, prints, screenprint t-shirtsSage Mountain Flower (Ohkay Owingeh / Taos Pueblo / Dine, Navajo) - clothingSeeWalker ART (Standing Rock) - art, stickers, stationery, jewelryTravis Mammedaty (Kiowa) - paintingsand more!
END:VEVENT
END:VCALENDAR