BEGIN:VCALENDAR
VERSION:2.0
PRODID:-//hacksw/handcal//NONSGML v1.0//EN
BEGIN:VEVENT
DTSTAMP:20190323T233000Z
DTSTART:20190323T233000Z
DTEND:20190324T020000Z
SUMMARY:Month of Photography Public Portfolio Review and Reception
DESCRIPTION:Public Portfolio Walkthrough: Saturday, March 23, 5:30 – 8 p.m.2nd floor Meet artists and browse portfolios by dozens of talented photographers who are in town for Month of Photography from around the world. Free and open to the public. Beer and wine available for purchase (21+).    For Spanish Translation Services: BROOKE.DILLING@DENVERGOV.ORGFor Sign Language Interpreter or Cart Services: SIGNLANGUAGESERVICES@DENVERGOV.ORGFor Other Disability Accommodations: DISABILITYACCESS@DENVERGOV.ORG
END:VEVENT
END:VCALENDAR